BEGIN:VCALENDAR
VERSION:2.0
PRODID:-//hacksw/handcal//NONSGML v1.0//EN
CALSCALE:GREGORIAN
BEGIN:VEVENT
SUMMARY:Scream 7
DTSTART:20260427T144500Z
DTEND:20260427T170900Z
GEO:51.04487;13.73697
LOCATION:Rundkino Dresden\, Prager Straße 6\, 01069 Dresden
DESCRIPTION:
URL;VALUE=URI:http://kinokalender.com/termin1600057.html
DTSTAMP:20260421T223247Z
UID:69e7fb0fd0ac7
END:VEVENT
END:VCALENDAR