BEGIN:VCALENDAR
VERSION:2.0
PRODID:-//hacksw/handcal//NONSGML v1.0//EN
CALSCALE:GREGORIAN
BEGIN:VEVENT
SUMMARY:Lee Cronin’s The Mummy
DTSTART:20260424T201500Z
GEO:51.04487;13.73697
LOCATION:Rundkino Dresden\, Prager Straße 6\, 01069 Dresden
DESCRIPTION:
URL;VALUE=URI:http://kinokalender.com/termin1600064.html
DTSTAMP:20260425T172528Z
UID:69ecf908ac3dd
END:VEVENT
END:VCALENDAR