BEGIN:VCALENDAR
VERSION:2.0
PRODID:-//hacksw/handcal//NONSGML v1.0//EN
CALSCALE:GREGORIAN
BEGIN:VEVENT
SUMMARY:Lee Cronin’s The Mummy
DTSTART:20260427T173000Z
GEO:51.04487;13.73697
LOCATION:Rundkino Dresden\, Prager Straße 6\, 01069 Dresden
DESCRIPTION:
URL;VALUE=URI:http://kinokalender.com/termin1600066.html
DTSTAMP:20260421T223145Z
UID:69e7fad19fe77
END:VEVENT
END:VCALENDAR