BEGIN:VCALENDAR
VERSION:2.0
PRODID:-//hacksw/handcal//NONSGML v1.0//EN
CALSCALE:GREGORIAN
BEGIN:VEVENT
SUMMARY:How to Make a Killing - Todsicheres Erbe
DTSTART:20260427T151500Z
DTEND:20260427T173000Z
GEO:51.04487;13.73697
LOCATION:Rundkino Dresden\, Prager Straße 6\, 01069 Dresden
DESCRIPTION:
URL;VALUE=URI:http://kinokalender.com/termin1600095.html
DTSTAMP:20260426T024835Z
UID:69ed7d0326c1a
END:VEVENT
END:VCALENDAR