BEGIN:VCALENDAR
VERSION:2.0
PRODID:-//hacksw/handcal//NONSGML v1.0//EN
CALSCALE:GREGORIAN
BEGIN:VEVENT
SUMMARY:Für immer ein Teil von dir - Reminders of Him
DTSTART:20260427T120000Z
DTEND:20260427T142500Z
GEO:51.04487;13.73697
LOCATION:Rundkino Dresden\, Prager Straße 6\, 01069 Dresden
DESCRIPTION:
URL;VALUE=URI:http://kinokalender.com/termin1600131.html
DTSTAMP:20260425T221245Z
UID:69ed3c5db54ed
END:VEVENT
END:VCALENDAR