BEGIN:VCALENDAR
VERSION:2.0
PRODID:-//hacksw/handcal//NONSGML v1.0//EN
CALSCALE:GREGORIAN
BEGIN:VEVENT
SUMMARY:Pferd am Stiel
DTSTART:20260423T121500Z
DTEND:20260423T140600Z
GEO:51.04487;13.73697
LOCATION:Rundkino Dresden\, Prager Straße 6\, 01069 Dresden
DESCRIPTION:
URL;VALUE=URI:http://kinokalender.com/termin1600133.html
DTSTAMP:20260422T002304Z
UID:69e814e8baf06
END:VEVENT
END:VCALENDAR