BEGIN:VCALENDAR
VERSION:2.0
PRODID:-//hacksw/handcal//NONSGML v1.0//EN
CALSCALE:GREGORIAN
BEGIN:VEVENT
SUMMARY:Pferd am Stiel
DTSTART:20260427T121500Z
DTEND:20260427T140600Z
GEO:51.04487;13.73697
LOCATION:Rundkino Dresden\, Prager Straße 6\, 01069 Dresden
DESCRIPTION:
URL;VALUE=URI:http://kinokalender.com/termin1600137.html
DTSTAMP:20260421T223613Z
UID:69e7fbdd02780
END:VEVENT
END:VCALENDAR