BEGIN:VCALENDAR
VERSION:2.0
PRODID:-//hacksw/handcal//NONSGML v1.0//EN
CALSCALE:GREGORIAN
BEGIN:VEVENT
SUMMARY:Assassination Classroom - The Movie: Our Time
DTSTART:20260426T174500Z
GEO:51.04487;13.73697
LOCATION:Rundkino Dresden\, Prager Straße 6\, 01069 Dresden
DESCRIPTION:
URL;VALUE=URI:http://kinokalender.com/termin1600140.html
DTSTAMP:20260426T010651Z
UID:69ed652b8e24d
END:VEVENT
END:VCALENDAR