BEGIN:VCALENDAR
VERSION:2.0
PRODID:-//hacksw/handcal//NONSGML v1.0//EN
CALSCALE:GREGORIAN
BEGIN:VEVENT
SUMMARY:Hoppers
DTSTART:20260429T120000Z
GEO:51.04384;13.73755
LOCATION:Cineplex Kristallpalast Dresden\, St. Petersburger Straße 24a\, 01069 Dresden
DESCRIPTION:
URL;VALUE=URI:http://kinokalender.com/termin1600217.html
DTSTAMP:20260425T143507Z
UID:69ecd11bd4b1c
END:VEVENT
END:VCALENDAR