BEGIN:VCALENDAR
VERSION:2.0
PRODID:-//hacksw/handcal//NONSGML v1.0//EN
CALSCALE:GREGORIAN
BEGIN:VEVENT
SUMMARY:Der Astronaut - Project Hail Mary
DTSTART:20260428T174000Z
DTEND:20260428T204600Z
GEO:51.04384;13.73755
LOCATION:Cineplex Kristallpalast Dresden\, St. Petersburger Straße 24a\, 01069 Dresden
DESCRIPTION:
URL;VALUE=URI:http://kinokalender.com/termin1600265.html
DTSTAMP:20260425T233928Z
UID:69ed50b07d171
END:VEVENT
END:VCALENDAR