BEGIN:VCALENDAR
VERSION:2.0
PRODID:-//hacksw/handcal//NONSGML v1.0//EN
CALSCALE:GREGORIAN
BEGIN:VEVENT
SUMMARY:Der Astronaut - Project Hail Mary
DTSTART:20260429T174000Z
DTEND:20260429T204600Z
GEO:51.04384;13.73755
LOCATION:Cineplex Kristallpalast Dresden\, St. Petersburger Straße 24a\, 01069 Dresden
DESCRIPTION:
URL;VALUE=URI:http://kinokalender.com/termin1600266.html
DTSTAMP:20260423T201802Z
UID:69ea7e7a61417
END:VEVENT
END:VCALENDAR