BEGIN:VCALENDAR
VERSION:2.0
PRODID:-//hacksw/handcal//NONSGML v1.0//EN
CALSCALE:GREGORIAN
BEGIN:VEVENT
SUMMARY:G.O.A.T. - Bock auf große Sprünge
DTSTART:20260425T114500Z
GEO:51.04384;13.73755
LOCATION:Cineplex Kristallpalast Dresden\, St. Petersburger Straße 24a\, 01069 Dresden
DESCRIPTION:
URL;VALUE=URI:http://kinokalender.com/termin1600271.html
DTSTAMP:20260426T012912Z
UID:69ed6a68eca70
END:VEVENT
END:VCALENDAR