BEGIN:VCALENDAR
VERSION:2.0
PRODID:-//hacksw/handcal//NONSGML v1.0//EN
CALSCALE:GREGORIAN
BEGIN:VEVENT
SUMMARY:Ach\, diese Lücke\, diese entsetzliche Lücke
DTSTART:20260422T103000Z
DTEND:20260422T131700Z
GEO:51.07124;13.75051
LOCATION:Filmtheater Schauburg\, Königsbrücker Straße 55\, 01099 Dresden
DESCRIPTION:
URL;VALUE=URI:http://kinokalender.com/termin1600294.html
DTSTAMP:20260421T221046Z
UID:69e7f5e618d8d
END:VEVENT
END:VCALENDAR