BEGIN:VCALENDAR
VERSION:2.0
PRODID:-//hacksw/handcal//NONSGML v1.0//EN
CALSCALE:GREGORIAN
BEGIN:VEVENT
SUMMARY:Good Luck\, Have Fun\, Don't Die
DTSTART:20260422T204500Z
DTEND:20260422T233000Z
GEO:51.07124;13.75051
LOCATION:Filmtheater Schauburg\, Königsbrücker Straße 55\, 01099 Dresden
DESCRIPTION:
URL;VALUE=URI:http://kinokalender.com/termin1600312.html
DTSTAMP:20260424T111510Z
UID:69eb50be37b55
END:VEVENT
END:VCALENDAR