BEGIN:VCALENDAR
VERSION:2.0
PRODID:-//hacksw/handcal//NONSGML v1.0//EN
CALSCALE:GREGORIAN
BEGIN:VEVENT
SUMMARY:Die Drei ??? - Toteninsel
DTSTART:20260425T130000Z
DTEND:20260425T151400Z
GEO:51.05182;13.80533
LOCATION:CinemaxX\, Hüblerstr. 8\, 01309 Dresden
DESCRIPTION:
URL;VALUE=URI:http://kinokalender.com/termin1600399.html
DTSTAMP:20260422T060015Z
UID:69e863efe4a3a
END:VEVENT
END:VCALENDAR