BEGIN:VCALENDAR
VERSION:2.0
PRODID:-//hacksw/handcal//NONSGML v1.0//EN
CALSCALE:GREGORIAN
BEGIN:VEVENT
SUMMARY:Lee Cronin’s The Mummy
DTSTART:20260427T174500Z
DTEND:20260427T203000Z
GEO:51.05182;13.80533
LOCATION:CinemaxX\, Hüblerstr. 8\, 01309 Dresden
DESCRIPTION:
URL;VALUE=URI:http://kinokalender.com/termin1600449.html
DTSTAMP:20260425T202907Z
UID:69ed2413c8898
END:VEVENT
END:VCALENDAR