BEGIN:VCALENDAR
VERSION:2.0
PRODID:-//hacksw/handcal//NONSGML v1.0//EN
CALSCALE:GREGORIAN
BEGIN:VEVENT
SUMMARY:Meine Freundin Conni - Geheimnis um Kater Mau
DTSTART:20260426T080000Z
DTEND:20260426T094600Z
GEO:51.05182;13.80533
LOCATION:CinemaxX\, Hüblerstr. 8\, 01309 Dresden
DESCRIPTION:
URL;VALUE=URI:http://kinokalender.com/termin1600456.html
DTSTAMP:20260426T024636Z
UID:69ed7c8c7dc23
END:VEVENT
END:VCALENDAR