BEGIN:VCALENDAR
VERSION:2.0
PRODID:-//hacksw/handcal//NONSGML v1.0//EN
CALSCALE:GREGORIAN
BEGIN:VEVENT
SUMMARY:Tom und Jerry: Der verlorene Kompass
DTSTART:20260426T130000Z
DTEND:20260426T150900Z
GEO:51.05182;13.80533
LOCATION:CinemaxX\, Hüblerstr. 8\, 01309 Dresden
DESCRIPTION:
URL;VALUE=URI:http://kinokalender.com/termin1600492.html
DTSTAMP:20260425T203056Z
UID:69ed2480b807b
END:VEVENT
END:VCALENDAR