BEGIN:VCALENDAR
VERSION:2.0
PRODID:-//hacksw/handcal//NONSGML v1.0//EN
CALSCALE:GREGORIAN
BEGIN:VEVENT
SUMMARY:Woodwalkers 2
DTSTART:20260429T154500Z
DTEND:20260429T175800Z
GEO:51.05182;13.80533
LOCATION:CinemaxX\, Hüblerstr. 8\, 01309 Dresden
DESCRIPTION:
URL;VALUE=URI:http://kinokalender.com/termin1600500.html
DTSTAMP:20260422T002238Z
UID:69e814cec672d
END:VEVENT
END:VCALENDAR