BEGIN:VCALENDAR
VERSION:2.0
PRODID:-//hacksw/handcal//NONSGML v1.0//EN
CALSCALE:GREGORIAN
BEGIN:VEVENT
SUMMARY:Babystar
DTSTART:20260424T111500Z
DTEND:20260424T132300Z
GEO:51.07124;13.75051
LOCATION:Filmtheater Schauburg\, Königsbrücker Straße 55\, 01099 Dresden
DESCRIPTION:
URL;VALUE=URI:http://kinokalender.com/termin1600761.html
DTSTAMP:20260424T202018Z
UID:69ebd08260f13
END:VEVENT
END:VCALENDAR