BEGIN:VCALENDAR
VERSION:2.0
PRODID:-//hacksw/handcal//NONSGML v1.0//EN
CALSCALE:GREGORIAN
BEGIN:VEVENT
SUMMARY:Hoppers
DTSTART:20260426T080000Z
DTEND:20260426T101400Z
GEO:51.07124;13.75051
LOCATION:Filmtheater Schauburg\, Königsbrücker Straße 55\, 01099 Dresden
DESCRIPTION:
URL;VALUE=URI:http://kinokalender.com/termin1600811.html
DTSTAMP:20260425T220739Z
UID:69ed3b2bc91bb
END:VEVENT
END:VCALENDAR