BEGIN:VCALENDAR
VERSION:2.0
PRODID:-//hacksw/handcal//NONSGML v1.0//EN
CALSCALE:GREGORIAN
BEGIN:VEVENT
SUMMARY:Klassentreffen - Alles beim Alten
DTSTART:20260426T140000Z
DTEND:20260426T161500Z
GEO:51.07124;13.75051
LOCATION:Filmtheater Schauburg\, Königsbrücker Straße 55\, 01099 Dresden
DESCRIPTION:
URL;VALUE=URI:http://kinokalender.com/termin1600820.html
DTSTAMP:20260426T010651Z
UID:69ed652b16fd6
END:VEVENT
END:VCALENDAR